BEGIN:VCALENDAR
VERSION:2.0
PRODID:-//Kafkerin - ECPv6.7.0//NONSGML v1.0//EN
CALSCALE:GREGORIAN
METHOD:PUBLISH
X-ORIGINAL-URL:https://kafkerin.fr
X-WR-CALDESC:Évènements pour Kafkerin
REFRESH-INTERVAL;VALUE=DURATION:PT1H
X-Robots-Tag:noindex
X-PUBLISHED-TTL:PT1H
BEGIN:VTIMEZONE
TZID:Europe/Paris
BEGIN:DAYLIGHT
TZOFFSETFROM:+0100
TZOFFSETTO:+0200
TZNAME:CEST
DTSTART:20260329T010000
END:DAYLIGHT
BEGIN:STANDARD
TZOFFSETFROM:+0200
TZOFFSETTO:+0100
TZNAME:CET
DTSTART:20261025T010000
END:STANDARD
END:VTIMEZONE
BEGIN:VEVENT
DTSTART;TZID=Europe/Paris:20260516T100000
DTEND;TZID=Europe/Paris:20260516T120000
DTSTAMP:20260419T223733
CREATED:20260418T161558Z
LAST-MODIFIED:20260418T161558Z
UID:10004879-1778925600-1778932800@kafkerin.fr
SUMMARY:Atelier carnets créatifs. Moment offert
DESCRIPTION:Par Pasquale
URL:https://kafkerin.fr/event/atelier-carnets-creatifs-moment-offert/
LOCATION:KafKerin\, 77 Rue Auguste Kervern\, Brest\, 29200\, France
END:VEVENT
BEGIN:VEVENT
DTSTART;TZID=Europe/Paris:20260521T170000
DTEND;TZID=Europe/Paris:20260521T183000
DTSTAMP:20260419T223733
CREATED:20260415T101729Z
LAST-MODIFIED:20260415T101729Z
UID:10004869-1779382800-1779388200@kafkerin.fr
SUMMARY:Yoga du rire. Sur inscription. Participation libre
DESCRIPTION:Par Angélique
URL:https://kafkerin.fr/event/yoga-du-rire-sur-inscription-participation-libre/
LOCATION:KafKerin\, 77 Rue Auguste Kervern\, Brest\, 29200\, France
ATTACH;FMTTYPE=image/png:https://kafkerin.fr/wp-content/uploads/2026/04/21-mai-yoga-du-rire.png
END:VEVENT
BEGIN:VEVENT
DTSTART;TZID=Europe/Paris:20260521T200000
DTEND;TZID=Europe/Paris:20260521T220000
DTSTAMP:20260419T223733
CREATED:20260418T161900Z
LAST-MODIFIED:20260418T161900Z
UID:10004881-1779393600-1779400800@kafkerin.fr
SUMMARY:Scène ouverte par Synergie.
DESCRIPTION:Par Claire
URL:https://kafkerin.fr/event/scene-ouverte-par-synergie/
LOCATION:KafKerin\, 77 Rue Auguste Kervern\, Brest\, 29200\, France
END:VEVENT
BEGIN:VEVENT
DTSTART;TZID=Europe/Paris:20260522T200000
DTEND;TZID=Europe/Paris:20260522T220000
DTSTAMP:20260419T223733
CREATED:20260415T105149Z
LAST-MODIFIED:20260418T202200Z
UID:10004871-1779480000-1779487200@kafkerin.fr
SUMMARY:Concert Musical Hat. Participation libre
DESCRIPTION:https://www.youtube.com/watch?v=Kyu2K_FNt0M\nhttps://www.youtube.com/watch? \nhttps://www.youtube.com/watch?v=lpYxIuQ–0U\nhttps://www.youtube.com/watch?v=BJYBzpL0IKk
URL:https://kafkerin.fr/event/concert-hat-participation-libre/
LOCATION:KafKerin\, 77 Rue Auguste Kervern\, Brest\, 29200\, France
ATTACH;FMTTYPE=image/jpeg:https://kafkerin.fr/wp-content/uploads/2026/04/MH_NEWS_20260522.jpg
END:VEVENT
BEGIN:VEVENT
DTSTART;TZID=Europe/Paris:20260523T100000
DTEND;TZID=Europe/Paris:20260523T120000
DTSTAMP:20260419T223733
CREATED:20260418T162103Z
LAST-MODIFIED:20260418T162103Z
UID:10004883-1779530400-1779537600@kafkerin.fr
SUMMARY:Atelier Croquis. Moment offert
DESCRIPTION:Par Lionel
URL:https://kafkerin.fr/event/atelier-croquis-moment-offert/
LOCATION:KafKerin\, 77 Rue Auguste Kervern\, Brest\, 29200\, France
END:VEVENT
BEGIN:VEVENT
DTSTART;TZID=Europe/Paris:20260527T193000
DTEND;TZID=Europe/Paris:20260527T220000
DTSTAMP:20260419T223733
CREATED:20260418T162223Z
LAST-MODIFIED:20260418T162239Z
UID:10004884-1779910200-1779919200@kafkerin.fr
SUMMARY:Blind test. Moment offert
DESCRIPTION:Par Simon
URL:https://kafkerin.fr/event/blind-test-moment-offert/
LOCATION:KafKerin\, 77 Rue Auguste Kervern\, Brest\, 29200\, France
END:VEVENT
BEGIN:VEVENT
DTSTART;TZID=Europe/Paris:20260528T140000
DTEND;TZID=Europe/Paris:20260528T160000
DTSTAMP:20260419T223733
CREATED:20260418T162340Z
LAST-MODIFIED:20260418T162340Z
UID:10004885-1779976800-1779984000@kafkerin.fr
SUMMARY:Atelier automassage : yoga
DESCRIPTION:Par Eliane
URL:https://kafkerin.fr/event/atelier-automassage-yoga/
LOCATION:KafKerin\, 77 Rue Auguste Kervern\, Brest\, 29200\, France
END:VEVENT
BEGIN:VEVENT
DTSTART;TZID=Europe/Paris:20260528T200000
DTEND;TZID=Europe/Paris:20260528T220000
DTSTAMP:20260419T223733
CREATED:20260418T162441Z
LAST-MODIFIED:20260418T202556Z
UID:10004886-1779998400-1780005600@kafkerin.fr
SUMMARY:Concert les Ptits Zefs. Participation libre
DESCRIPTION:
URL:https://kafkerin.fr/event/chorale-petits-zefs/
LOCATION:KafKerin\, 77 Rue Auguste Kervern\, Brest\, 29200\, France
ATTACH;FMTTYPE=image/jpeg:https://kafkerin.fr/wp-content/uploads/2026/04/IMG-20260415-WA0009.jpg
END:VEVENT
BEGIN:VEVENT
DTSTART;TZID=Europe/Paris:20260529T200000
DTEND;TZID=Europe/Paris:20260529T220000
DTSTAMP:20260419T223733
CREATED:20251213T111514Z
LAST-MODIFIED:20251213T111526Z
UID:10004775-1780084800-1780092000@kafkerin.fr
SUMMARY:Concert Breizh'O Folk. Participation libre
DESCRIPTION:
URL:https://kafkerin.fr/event/concert-breizho-folk-participation-libre/
LOCATION:KafKerin\, 77 Rue Auguste Kervern\, Brest\, 29200\, France
END:VEVENT
BEGIN:VEVENT
DTSTART;TZID=Europe/Paris:20260612T200000
DTEND;TZID=Europe/Paris:20260612T220000
DTSTAMP:20260419T223733
CREATED:20260117T114105Z
LAST-MODIFIED:20260117T114105Z
UID:10004809-1781294400-1781301600@kafkerin.fr
SUMMARY:Concert: Louve Furieuse
DESCRIPTION:
URL:https://kafkerin.fr/event/concert-louve-furieuse/
LOCATION:KafKerin\, 77 Rue Auguste Kervern\, Brest\, 29200\, France
ATTACH;FMTTYPE=image/jpeg:https://kafkerin.fr/wp-content/uploads/2026/01/4159.jpg
END:VEVENT
BEGIN:VEVENT
DTSTART;TZID=Europe/Paris:20260619T203000
DTEND;TZID=Europe/Paris:20260619T220000
DTSTAMP:20260419T223733
CREATED:20260119T113345Z
LAST-MODIFIED:20260119T113445Z
UID:10004811-1781901000-1781906400@kafkerin.fr
SUMMARY:Concert Vie en Vrac. Participation libre
DESCRIPTION:
URL:https://kafkerin.fr/event/concert-vie-en-vrac-participation-libre-2/
LOCATION:KafKerin\, 77 Rue Auguste Kervern\, Brest\, 29200\, France
END:VEVENT
BEGIN:VEVENT
DTSTART;TZID=Europe/Paris:20260625T203000
DTEND;TZID=Europe/Paris:20260625T223000
DTSTAMP:20260419T223733
CREATED:20251222T211656Z
LAST-MODIFIED:20260117T204438Z
UID:10004788-1782419400-1782426600@kafkerin.fr
SUMMARY:Initiation danse bretonne suivi d'un Fest-Noz. Participation libre
DESCRIPTION:
URL:https://kafkerin.fr/event/fest-noz-participation-libre-5/
LOCATION:KafKerin\, 77 Rue Auguste Kervern\, Brest\, 29200\, France
ATTACH;FMTTYPE=application/pdf:https://kafkerin.fr/wp-content/uploads/2025/12/Affiche-BEP-SORT-KafKerin-25-juin-2026.pdf
END:VEVENT
END:VCALENDAR