BEGIN:VCALENDAR
VERSION:2.0
PRODID:-//Kafkerin - ECPv6.7.0//NONSGML v1.0//EN
CALSCALE:GREGORIAN
METHOD:PUBLISH
X-WR-CALNAME:Kafkerin
X-ORIGINAL-URL:https://kafkerin.fr
X-WR-CALDESC:Évènements pour Kafkerin
REFRESH-INTERVAL;VALUE=DURATION:PT1H
X-Robots-Tag:noindex
X-PUBLISHED-TTL:PT1H
BEGIN:VTIMEZONE
TZID:Europe/Paris
BEGIN:DAYLIGHT
TZOFFSETFROM:+0100
TZOFFSETTO:+0200
TZNAME:CEST
DTSTART:20250330T010000
END:DAYLIGHT
BEGIN:STANDARD
TZOFFSETFROM:+0200
TZOFFSETTO:+0100
TZNAME:CET
DTSTART:20251026T010000
END:STANDARD
END:VTIMEZONE
BEGIN:VEVENT
DTSTART;TZID=Europe/Paris:20251025T100000
DTEND;TZID=Europe/Paris:20251025T120000
DTSTAMP:20260419T173630
CREATED:20250723T200706Z
LAST-MODIFIED:20251213T101818Z
UID:10004498-1761386400-1761393600@kafkerin.fr
SUMMARY:Atelier Croquis d'imagination Moment offert
DESCRIPTION:Par Lionel\, animateur bénévole\, chaque 4ème samedi du mois\, un thème proposé ou à définir. \nNous vous remercions de prendre votre adhésion à l’association pour 2026\,( à partir de 10€) valable pour tous les ateliers afin de nous soutenir. Merci de votre compréhension.
URL:https://kafkerin.fr/event/atelier-croquis-dimagination-moment-offert/2025-10-25/
LOCATION:KafKerin\, 77 Rue Auguste Kervern\, Brest\, 29200\, France
ATTACH;FMTTYPE=image/png:https://kafkerin.fr/wp-content/uploads/2025/07/cafe-croquis-sept25.png
END:VEVENT
BEGIN:VEVENT
DTSTART;TZID=Europe/Paris:20251024T200000
DTEND;TZID=Europe/Paris:20251024T220000
DTSTAMP:20260419T173630
CREATED:20250731T121722Z
LAST-MODIFIED:20251013T105109Z
UID:10004486-1761336000-1761343200@kafkerin.fr
SUMMARY:PEGE concert. Participation libre
DESCRIPTION:
URL:https://kafkerin.fr/event/pege-2eme-concert-participation-libre-2/
LOCATION:KafKerin\, 77 Rue Auguste Kervern\, Brest\, 29200\, France
ATTACH;FMTTYPE=image/png:https://kafkerin.fr/wp-content/uploads/2025/07/cadeau-mamie-1.png
END:VEVENT
BEGIN:VEVENT
DTSTART;TZID=Europe/Paris:20251024T100000
DTEND;TZID=Europe/Paris:20251024T120000
DTSTAMP:20260419T173630
CREATED:20250926T133840Z
LAST-MODIFIED:20251013T105228Z
UID:10004548-1761300000-1761307200@kafkerin.fr
SUMMARY:Atelier sophro théatre. Sur inscription
DESCRIPTION:Par Sylvie
URL:https://kafkerin.fr/event/atelier-sophro-theatre-sur-inscription/
LOCATION:KafKerin\, 77 Rue Auguste Kervern\, Brest\, 29200\, France
ATTACH;FMTTYPE=image/png:https://kafkerin.fr/wp-content/uploads/2025/09/sophro-theatre.png
END:VEVENT
BEGIN:VEVENT
DTSTART;TZID=Europe/Paris:20251023T140000
DTEND;TZID=Europe/Paris:20251023T163000
DTSTAMP:20260419T173630
CREATED:20250908T162820Z
LAST-MODIFIED:20250908T162821Z
UID:10004528-1761228000-1761237000@kafkerin.fr
SUMMARY:Atelier automassage . Participation libre
DESCRIPTION:par Eliane
URL:https://kafkerin.fr/event/atelier-automassage-participation-libre-2/
LOCATION:KafKerin\, 77 Rue Auguste Kervern\, Brest\, 29200\, France
ATTACH;FMTTYPE=image/png:https://kafkerin.fr/wp-content/uploads/2025/09/23-octobre-Pieds.png
END:VEVENT
BEGIN:VEVENT
DTSTART;TZID=Europe/Paris:20251022T190000
DTEND;TZID=Europe/Paris:20251022T220000
DTSTAMP:20260419T173630
CREATED:20241202T232244Z
LAST-MODIFIED:20251019T165208Z
UID:10003866-1761159600-1761170400@kafkerin.fr
SUMMARY:Blind Test (Gratuit)
DESCRIPTION:Animé par Simon  : de jolis moments à partager\, car Simon prépare des thèmes toujours différents.
URL:https://kafkerin.fr/event/blind-test-2-2-2/2025-10-22/
LOCATION:KafKerin\, 77 Rue Auguste Kervern\, Brest\, 29200\, France
ATTACH;FMTTYPE=image/jpeg:https://kafkerin.fr/wp-content/uploads/2024/10/4emeMercredi-Blind-test-2.jpg
END:VEVENT
END:VCALENDAR