BEGIN:VCALENDAR
VERSION:2.0
PRODID:-//Kafkerin - ECPv6.7.0//NONSGML v1.0//EN
CALSCALE:GREGORIAN
METHOD:PUBLISH
X-WR-CALNAME:Kafkerin
X-ORIGINAL-URL:https://kafkerin.fr
X-WR-CALDESC:Évènements pour Kafkerin
REFRESH-INTERVAL;VALUE=DURATION:PT1H
X-Robots-Tag:noindex
X-PUBLISHED-TTL:PT1H
BEGIN:VTIMEZONE
TZID:Europe/Paris
BEGIN:DAYLIGHT
TZOFFSETFROM:+0100
TZOFFSETTO:+0200
TZNAME:CEST
DTSTART:20250330T010000
END:DAYLIGHT
BEGIN:STANDARD
TZOFFSETFROM:+0200
TZOFFSETTO:+0100
TZNAME:CET
DTSTART:20251026T010000
END:STANDARD
END:VTIMEZONE
BEGIN:VEVENT
DTSTART;TZID=Europe/Paris:20251022T190000
DTEND;TZID=Europe/Paris:20251022T220000
DTSTAMP:20260419T160128
CREATED:20241202T232244Z
LAST-MODIFIED:20251019T165208Z
UID:10003866-1761159600-1761170400@kafkerin.fr
SUMMARY:Blind Test (Gratuit)
DESCRIPTION:Animé par Simon  : de jolis moments à partager\, car Simon prépare des thèmes toujours différents.
URL:https://kafkerin.fr/event/blind-test-2-2-2/2025-10-22/
LOCATION:KafKerin\, 77 Rue Auguste Kervern\, Brest\, 29200\, France
ATTACH;FMTTYPE=image/jpeg:https://kafkerin.fr/wp-content/uploads/2024/10/4emeMercredi-Blind-test-2.jpg
END:VEVENT
END:VCALENDAR