BEGIN:VCALENDAR
VERSION:2.0
PRODID:-//Kafkerin - ECPv6.7.0//NONSGML v1.0//EN
CALSCALE:GREGORIAN
METHOD:PUBLISH
X-WR-CALNAME:Kafkerin
X-ORIGINAL-URL:https://kafkerin.fr
X-WR-CALDESC:Évènements pour Kafkerin
REFRESH-INTERVAL;VALUE=DURATION:PT1H
X-Robots-Tag:noindex
X-PUBLISHED-TTL:PT1H
BEGIN:VTIMEZONE
TZID:Europe/Paris
BEGIN:DAYLIGHT
TZOFFSETFROM:+0100
TZOFFSETTO:+0200
TZNAME:CEST
DTSTART:20260329T010000
END:DAYLIGHT
BEGIN:STANDARD
TZOFFSETFROM:+0200
TZOFFSETTO:+0100
TZNAME:CET
DTSTART:20261025T010000
END:STANDARD
END:VTIMEZONE
BEGIN:VEVENT
DTSTART;TZID=Europe/Paris:20260422T093000
DTEND;TZID=Europe/Paris:20260422T113000
DTSTAMP:20260422T121431
CREATED:20241202T230812Z
LAST-MODIFIED:20251019T164903Z
UID:10001835-1776850200-1776857400@kafkerin.fr
SUMMARY:Café Tricot-crochet (Moment offert)
DESCRIPTION:Laurence\, animatrice bénévole\,  vous accueille chaque mercredi matin pour un partage de savoirs. \nSauf vacances scolaires. \nUne adhésion minimum 10 € vous sera demandée pour 2025 après un premier essai. \nMerci de votre compréhension et soutien à  l’association.
URL:https://kafkerin.fr/event/cafe-tricot-2/2026-04-22/
ATTACH;FMTTYPE=image/png:https://kafkerin.fr/wp-content/uploads/2024/12/A3H-Mercredi-CafeTricot.png
END:VEVENT
BEGIN:VEVENT
DTSTART;TZID=Europe/Paris:20260422T180000
DTEND;TZID=Europe/Paris:20260422T200000
DTSTAMP:20260422T121431
CREATED:20260421T114622Z
LAST-MODIFIED:20260421T114623Z
UID:10004889-1776880800-1776888000@kafkerin.fr
SUMMARY:Café écriture. Sur inscription.
DESCRIPTION:
URL:https://kafkerin.fr/event/cafe-ecriture-sur-inscription-5-2-2/
ATTACH;FMTTYPE=image/png:https://kafkerin.fr/wp-content/uploads/2025/09/4eme-Mercredi-Cafe-Ecriture.png
END:VEVENT
BEGIN:VEVENT
DTSTART;TZID=Europe/Paris:20260422T190000
DTEND;TZID=Europe/Paris:20260422T220000
DTSTAMP:20260422T121431
CREATED:20241202T232244Z
LAST-MODIFIED:20251019T165208Z
UID:10003872-1776884400-1776895200@kafkerin.fr
SUMMARY:Blind Test (Gratuit)
DESCRIPTION:Animé par Simon  : de jolis moments à partager\, car Simon prépare des thèmes toujours différents.
URL:https://kafkerin.fr/event/blind-test-2-2-2/2026-04-22/
LOCATION:KafKerin\, 77 Rue Auguste Kervern\, Brest\, 29200\, France
ATTACH;FMTTYPE=image/jpeg:https://kafkerin.fr/wp-content/uploads/2024/10/4emeMercredi-Blind-test-2.jpg
END:VEVENT
END:VCALENDAR