BEGIN:VCALENDAR
VERSION:2.0
PRODID:-//Kafkerin - ECPv6.7.0//NONSGML v1.0//EN
CALSCALE:GREGORIAN
METHOD:PUBLISH
X-WR-CALNAME:Kafkerin
X-ORIGINAL-URL:https://kafkerin.fr
X-WR-CALDESC:Évènements pour Kafkerin
REFRESH-INTERVAL;VALUE=DURATION:PT1H
X-Robots-Tag:noindex
X-PUBLISHED-TTL:PT1H
BEGIN:VTIMEZONE
TZID:Europe/Paris
BEGIN:DAYLIGHT
TZOFFSETFROM:+0100
TZOFFSETTO:+0200
TZNAME:CEST
DTSTART:20260329T010000
END:DAYLIGHT
BEGIN:STANDARD
TZOFFSETFROM:+0200
TZOFFSETTO:+0100
TZNAME:CET
DTSTART:20261025T010000
END:STANDARD
END:VTIMEZONE
BEGIN:VEVENT
DTSTART;TZID=Europe/Paris:20260421T093000
DTEND;TZID=Europe/Paris:20260421T113000
DTSTAMP:20260421T121741
CREATED:20260205T111541Z
LAST-MODIFIED:20260205T113708Z
UID:10001031-1776763800-1776771000@kafkerin.fr
SUMMARY:Café Couture  (Moment offert)
DESCRIPTION:Avec Annie décidez de réutiliser\, de réparer\, de créer en recyclant dans la joie et la bonne humeur \n\n\n\n 
URL:https://kafkerin.fr/event/cafe-couture-2/2026-04-21/
ATTACH;FMTTYPE=image/jpeg:https://kafkerin.fr/wp-content/uploads/2024/10/Mardi-Cafe-Couture.jpg
END:VEVENT
END:VCALENDAR